BEGIN:VCALENDAR
VERSION:2.0
PRODID:-//eventon.com NONSGML v1.0//EN
CALSCALE:GREGORIAN
METHOD:PUBLISH
BEGIN:VEVENT
UID:69e60528ca099
DTSTAMP:20260420T105120Z
DTSTART:20250529T180000Z
DTEND:20250529T210000Z
LOCATION:
SUMMARY:Mini concerts
DESCRIPTION:Les scènes ouvertes c’est bien\,  mais avoir la chance de jo
 uer son propre petit set musical\,  c’est mieux! Comme depuis sa créatio
 n\,  la Fiestalélé ouvre sa scène aux Ukulélé clubs et Groupes amateur
 s qui souhaiteraient partager leurs univers musicaux. Une règle : au moins
  un ukulélé sur scène ! DEMANDE[..]\nhttps://fiestalele.ukuleleinmarseil
 le.fr/events/mini-concerts/
URL:https://fiestalele.ukuleleinmarseille.fr/events/mini-concerts/
END:VEVENT
END:VCALENDAR